BEGIN:VCALENDAR
VERSION:2.0
PRODID:-//Essex County Land Bank - ECPv6.15.20//NONSGML v1.0//EN
CALSCALE:GREGORIAN
METHOD:PUBLISH
X-WR-CALNAME:Essex County Land Bank
X-ORIGINAL-URL:https://essexcountylandbank.org
X-WR-CALDESC:Events for Essex County Land Bank
REFRESH-INTERVAL;VALUE=DURATION:PT1H
X-Robots-Tag:noindex
X-PUBLISHED-TTL:PT1H
BEGIN:VTIMEZONE
TZID:America/New_York
BEGIN:DAYLIGHT
TZOFFSETFROM:-0500
TZOFFSETTO:-0400
TZNAME:EDT
DTSTART:20240310T070000
END:DAYLIGHT
BEGIN:STANDARD
TZOFFSETFROM:-0400
TZOFFSETTO:-0500
TZNAME:EST
DTSTART:20241103T060000
END:STANDARD
BEGIN:DAYLIGHT
TZOFFSETFROM:-0500
TZOFFSETTO:-0400
TZNAME:EDT
DTSTART:20250309T070000
END:DAYLIGHT
BEGIN:STANDARD
TZOFFSETFROM:-0400
TZOFFSETTO:-0500
TZNAME:EST
DTSTART:20251102T060000
END:STANDARD
BEGIN:DAYLIGHT
TZOFFSETFROM:-0500
TZOFFSETTO:-0400
TZNAME:EDT
DTSTART:20260308T070000
END:DAYLIGHT
BEGIN:STANDARD
TZOFFSETFROM:-0400
TZOFFSETTO:-0500
TZNAME:EST
DTSTART:20261101T060000
END:STANDARD
BEGIN:DAYLIGHT
TZOFFSETFROM:-0500
TZOFFSETTO:-0400
TZNAME:EDT
DTSTART:20270314T070000
END:DAYLIGHT
BEGIN:STANDARD
TZOFFSETFROM:-0400
TZOFFSETTO:-0500
TZNAME:EST
DTSTART:20271107T060000
END:STANDARD
END:VTIMEZONE
BEGIN:VEVENT
DTSTART;TZID=America/New_York:20250827T123000
DTEND;TZID=America/New_York:20250827T133000
DTSTAMP:20260424T233122
CREATED:20250626T154358Z
LAST-MODIFIED:20250626T154410Z
UID:1628-1756297800-1756301400@essexcountylandbank.org
SUMMARY:4th Quarter Year End Review (Strategic Planning Starts)
DESCRIPTION:
URL:https://essexcountylandbank.org/event/4th-quarter-year-end-review-strategic-planning-starts/
LOCATION:ECLB Offices\, 111 Montcalm Street\, Ticonderoga\, NY\, 12883\, United States
END:VEVENT
BEGIN:VEVENT
DTSTART;TZID=America/New_York:20251024T160000
DTEND;TZID=America/New_York:20251024T220000
DTSTAMP:20260424T233122
CREATED:20250903T193944Z
LAST-MODIFIED:20250903T194817Z
UID:2091-1761321600-1761343200@essexcountylandbank.org
SUMMARY:Fireside Folk Festival
DESCRIPTION:Join us in downtown Ticonderoga for an evening of music\, art\, food\, and community! \nEnjoy live performances by The National Parks\, Lang and I\, and the Carillion Consort. Celebrate the dedication of six bronze storybook sculptures at the Ticonderoga Library\, explore free kids’ activities\, and relax in the beer garden. \nCome hungry—local favorites and regional food trucks will be serving up delicious options all night\, including Alladdin\, Southern Smoke\, Martha’s Kitchen\, Samosaman\, Eighty9 Catering\, and El Gato Cantina. \nThis free community festival is the perfect way to experience the heart of Ticonderoga—through music\, art\, and shared moments together. \n 
URL:https://essexcountylandbank.org/event/fireside-folk-festival/
LOCATION:NY
END:VEVENT
BEGIN:VEVENT
DTSTART;TZID=America/New_York:20251029T123000
DTEND;TZID=America/New_York:20251029T133000
DTSTAMP:20260424T233122
CREATED:20250626T154603Z
LAST-MODIFIED:20250626T154607Z
UID:1630-1761741000-1761744600@essexcountylandbank.org
SUMMARY:Quarter 1 Review
DESCRIPTION:
URL:https://essexcountylandbank.org/event/quarter-1-review/
LOCATION:ECLB Offices\, 111 Montcalm Street\, Ticonderoga\, NY\, 12883\, United States
END:VEVENT
BEGIN:VEVENT
DTSTART;TZID=America/New_York:20260123T180000
DTEND;TZID=America/New_York:20260123T200000
DTSTAMP:20260424T233122
CREATED:20260108T174458Z
LAST-MODIFIED:20260108T174458Z
UID:2323-1769191200-1769198400@essexcountylandbank.org
SUMMARY:175 The Portage Ribbon Cutting & Open House
DESCRIPTION:Ribbon Cutting & Open House175 The Portage\, Ticonderoga\, NY6:00–8:00 p.m. \nPlease RSVP to nteriele@northcountryruraldevelopment.org. RSVP is required. \nJoin us in celebrating the completion of the second Essex County Land Bank home in Ticonderoga.
URL:https://essexcountylandbank.org/event/175-the-portage-ribbon-cutting-open-house/
LOCATION:NY
END:VEVENT
BEGIN:VEVENT
DTSTART;TZID=America/New_York:20260128T123000
DTEND;TZID=America/New_York:20260128T133000
DTSTAMP:20260424T233122
CREATED:20250626T154731Z
LAST-MODIFIED:20250626T154734Z
UID:1632-1769603400-1769607000@essexcountylandbank.org
SUMMARY:Quarter 2 Review
DESCRIPTION:
URL:https://essexcountylandbank.org/event/quarter-2-review/
LOCATION:ECLB Offices\, 111 Montcalm Street\, Ticonderoga\, NY\, 12883\, United States
END:VEVENT
BEGIN:VEVENT
DTSTART;TZID=America/New_York:20260128T180000
DTEND;TZID=America/New_York:20260128T190000
DTSTAMP:20260424T233122
CREATED:20251217T164659Z
LAST-MODIFIED:20251217T164659Z
UID:2319-1769623200-1769626800@essexcountylandbank.org
SUMMARY:ECLB & NRDC Meeting
DESCRIPTION:This is a kick-off meeting concerning the upcoming strategic planning.
URL:https://essexcountylandbank.org/event/eclb-nrdc-meeting/
LOCATION:NY
END:VEVENT
BEGIN:VEVENT
DTSTART;TZID=America/New_York:20260424T080000
DTEND;TZID=America/New_York:20260424T160000
DTSTAMP:20260424T233122
CREATED:20260323T142335Z
LAST-MODIFIED:20260323T142339Z
UID:2446-1777017600-1777046400@essexcountylandbank.org
SUMMARY:Blossom Reverie Fair – Fairy House Drop Off Deadline
DESCRIPTION:Join us for the Blossom Reverie Fair Fairy House Contest! Create your own magical fairy house and have it displayed throughout downtown Ticonderoga for the community to explore and vote on.  The top 5 winners will each receive $100! 📅 Entries due: April 24\, 2026🌷 Display & voting: April 25\, 2026 (2–6 PM) \nDrop-Off Info \nFairy House Drop-Off Details:\n📅 Deadline: April 24\, 2026\n📍 Location: 111 Montcalm St.\, Ticonderoga\n🕒 Time: 8:00 am-4:00 pm \nClick Here to Register!
URL:https://essexcountylandbank.org/event/blossom-reverie-fair-fairy-house-drop-off-deadline/
LOCATION:ECLB Offices\, 111 Montcalm Street\, Ticonderoga\, NY\, 12883\, United States
END:VEVENT
BEGIN:VEVENT
DTSTART;TZID=America/New_York:20260425T140000
DTEND;TZID=America/New_York:20260425T180000
DTSTAMP:20260424T233122
CREATED:20260109T202932Z
LAST-MODIFIED:20260109T202932Z
UID:2325-1777125600-1777140000@essexcountylandbank.org
SUMMARY:The Blossom Reverie Fair
DESCRIPTION:Spring is coming to downtown Ticonderoga in full bloom.  Join us for The Blossom Reverie Fair\, a joyful downtown celebration of art\, flowers\, imagination\, and community.
URL:https://essexcountylandbank.org/event/the-blossom-reverie-fair/
LOCATION:NY
END:VEVENT
BEGIN:VEVENT
DTSTART;TZID=America/New_York:20260429T123000
DTEND;TZID=America/New_York:20260429T133000
DTSTAMP:20260424T233122
CREATED:20250626T154827Z
LAST-MODIFIED:20250626T154930Z
UID:1634-1777465800-1777469400@essexcountylandbank.org
SUMMARY:Quarter 3 Review (Strategic Planning Ends)
DESCRIPTION:
URL:https://essexcountylandbank.org/event/quarter-3-review/
LOCATION:ECLB Offices\, 111 Montcalm Street\, Ticonderoga\, NY\, 12883\, United States
END:VEVENT
BEGIN:VEVENT
DTSTART;VALUE=DATE:20260606
DTEND;VALUE=DATE:20260607
DTSTAMP:20260424T233122
CREATED:20250924T123101Z
LAST-MODIFIED:20250924T123101Z
UID:2182-1780704000-1780790399@essexcountylandbank.org
SUMMARY:Walls Between Waters Mural Festival
DESCRIPTION:✨ Join us for a fun-filled day! 🎉Bring the whole family for kids’ activities\, tasty food trucks\, a vibrant color run\, and end the day with an evening concert under the stars! 🎶🌟
URL:https://essexcountylandbank.org/event/walls-between-waters-mural-festival/
LOCATION:NY
END:VEVENT
BEGIN:VEVENT
DTSTART;TZID=America/New_York:20260625T123000
DTEND;TZID=America/New_York:20260625T133000
DTSTAMP:20260424T233122
CREATED:20250626T155038Z
LAST-MODIFIED:20250626T155047Z
UID:1637-1782390600-1782394200@essexcountylandbank.org
SUMMARY:Annual Meeting & Budget Vote
DESCRIPTION:
URL:https://essexcountylandbank.org/event/annual-meeting-budget-vote/
LOCATION:ECLB Offices\, 111 Montcalm Street\, Ticonderoga\, NY\, 12883\, United States
END:VEVENT
BEGIN:VEVENT
DTSTART;TZID=America/New_York:20261003T120000
DTEND;TZID=America/New_York:20261003T190000
DTSTAMP:20260424T233122
CREATED:20260109T203727Z
LAST-MODIFIED:20260109T203727Z
UID:2327-1791028800-1791054000@essexcountylandbank.org
SUMMARY:Fireside Folk Fest II
DESCRIPTION:Fireside Folk Fest II is a fall celebration anchored by large outdoor stage\, live folk and acoustic music\, and a wide range of free\, family friendly activities throughout downtown.  The festival features a public art focus with new sculptures\, live animal demonstrations hosted at the library\, and a vibrant food truck festival showcasing ethnic cuisines and new flavors for Ticonderoga.  A signature fire dancer performance and cozy autumn atmosphere bring warmth\, creativity\, and connection together in a welcoming experience for all ages.
URL:https://essexcountylandbank.org/event/fireside-folk-fest-ii/
LOCATION:NY
END:VEVENT
END:VCALENDAR