BEGIN:VCALENDAR
VERSION:2.0
PRODID:-//Essex County Land Bank - ECPv6.15.20//NONSGML v1.0//EN
CALSCALE:GREGORIAN
METHOD:PUBLISH
X-WR-CALNAME:Essex County Land Bank
X-ORIGINAL-URL:https://essexcountylandbank.org
X-WR-CALDESC:Events for Essex County Land Bank
REFRESH-INTERVAL;VALUE=DURATION:PT1H
X-Robots-Tag:noindex
X-PUBLISHED-TTL:PT1H
BEGIN:VTIMEZONE
TZID:America/New_York
BEGIN:DAYLIGHT
TZOFFSETFROM:-0500
TZOFFSETTO:-0400
TZNAME:EDT
DTSTART:20250309T070000
END:DAYLIGHT
BEGIN:STANDARD
TZOFFSETFROM:-0400
TZOFFSETTO:-0500
TZNAME:EST
DTSTART:20251102T060000
END:STANDARD
BEGIN:DAYLIGHT
TZOFFSETFROM:-0500
TZOFFSETTO:-0400
TZNAME:EDT
DTSTART:20260308T070000
END:DAYLIGHT
BEGIN:STANDARD
TZOFFSETFROM:-0400
TZOFFSETTO:-0500
TZNAME:EST
DTSTART:20261101T060000
END:STANDARD
BEGIN:DAYLIGHT
TZOFFSETFROM:-0500
TZOFFSETTO:-0400
TZNAME:EDT
DTSTART:20270314T070000
END:DAYLIGHT
BEGIN:STANDARD
TZOFFSETFROM:-0400
TZOFFSETTO:-0500
TZNAME:EST
DTSTART:20271107T060000
END:STANDARD
END:VTIMEZONE
BEGIN:VEVENT
DTSTART;TZID=America/New_York:20260424T080000
DTEND;TZID=America/New_York:20260424T160000
DTSTAMP:20260424T012420
CREATED:20260323T142335Z
LAST-MODIFIED:20260323T142339Z
UID:2446-1777017600-1777046400@essexcountylandbank.org
SUMMARY:Blossom Reverie Fair – Fairy House Drop Off Deadline
DESCRIPTION:Join us for the Blossom Reverie Fair Fairy House Contest! Create your own magical fairy house and have it displayed throughout downtown Ticonderoga for the community to explore and vote on.  The top 5 winners will each receive $100! 📅 Entries due: April 24\, 2026🌷 Display & voting: April 25\, 2026 (2–6 PM) \nDrop-Off Info \nFairy House Drop-Off Details:\n📅 Deadline: April 24\, 2026\n📍 Location: 111 Montcalm St.\, Ticonderoga\n🕒 Time: 8:00 am-4:00 pm \nClick Here to Register!
URL:https://essexcountylandbank.org/event/blossom-reverie-fair-fairy-house-drop-off-deadline/
LOCATION:ECLB Offices\, 111 Montcalm Street\, Ticonderoga\, NY\, 12883\, United States
END:VEVENT
END:VCALENDAR